BEGIN:VCALENDAR
VERSION:2.0
PRODID:-//CliERA - ECPv6.9.0//NONSGML v1.0//EN
CALSCALE:GREGORIAN
METHOD:PUBLISH
X-WR-CALNAME:CliERA
X-ORIGINAL-URL:https://cliera.com
X-WR-CALDESC:Eventos para CliERA
REFRESH-INTERVAL;VALUE=DURATION:PT1H
X-Robots-Tag:noindex
X-PUBLISHED-TTL:PT1H
BEGIN:VTIMEZONE
TZID:America/Halifax
BEGIN:DAYLIGHT
TZOFFSETFROM:-0400
TZOFFSETTO:-0300
TZNAME:ADT
DTSTART:20230312T060000
END:DAYLIGHT
BEGIN:STANDARD
TZOFFSETFROM:-0300
TZOFFSETTO:-0400
TZNAME:AST
DTSTART:20231105T050000
END:STANDARD
END:VTIMEZONE
BEGIN:VEVENT
DTSTART;TZID=America/Halifax:20230324T090000
DTEND;TZID=America/Halifax:20230328T180000
DTSTAMP:20260425T233143
CREATED:20230225T132751Z
LAST-MODIFIED:20230225T133055Z
UID:4084-1679648400-1680026400@cliera.com
SUMMARY:XIV CONGRESO COLOMBIANO DE MEDICINA ESTÉTICA ACICME-UIME
DESCRIPTION:
URL:https://cliera.com/event/xiv-congreso-colombiano-de-medicina-estetica-acicme-uime-el-slug-podria-ser-xiv-congreso-medicina-estetica-acicme-uime/
LOCATION:Hotel Intercontinental Medellín\, Calle 16\, Variante #28-51\, Las Palmas\, Medellín\, Antioquia\, Colombia\, Medellin\, Antioquia\, 050021\, Colombia
CATEGORIES:Curso/Taller Online
ATTACH;FMTTYPE=image/jpeg:https://cliera.com/wp-content/uploads/2023/02/PHOTO-2023-02-24-17-12-22-1.jpg
ORGANIZER;CN="ACICME-UIME":MAILTO:acicme@gmail.com
END:VEVENT
END:VCALENDAR